View In:
ArcGIS JavaScript
ArcGIS Online Map Viewer
ArcGIS Earth
ArcGIS Pro
Service Description:
Map Name: Map1
Legend
All Layers and Tables
Layers:
Description: This dataset displays FINAL land use allocations, related to Solar development, for BLM administered Lands within the planning area, under the Proposed Plan. The 11-state planning area includes approximately 162 million acres of lands that are administered by the BLM under principles of multiple use and sustained yield, consistent with the Federal Land Policy and Management Act of 1976, as amended (FLPMA).
Service Item Id: c5a347b49e01408091a76956014c469a
Copyright Text: Bureau of Land Management
Spatial Reference:
102100
(3857)
Single Fused Map Cache: true
Tile Info:
- Height: 256
- Width: 256
- DPI: 96
-
Levels of Detail: 24
-
Level ID: 1
[ Start Tile, End Tile ]
- Resolution: 78271.5169639999
- Scale: 2.95828763795777E8
-
Level ID: 2
[ Start Tile, End Tile ]
- Resolution: 39135.7584820001
- Scale: 1.47914381897889E8
-
Level ID: 3
[ Start Tile, End Tile ]
- Resolution: 19567.8792409999
- Scale: 7.3957190948944E7
-
Level ID: 4
[ Start Tile, End Tile ]
- Resolution: 9783.93962049996
- Scale: 3.6978595474472E7
-
Level ID: 5
[ Start Tile, End Tile ]
- Resolution: 4891.96981024998
- Scale: 1.8489297737236E7
- Format: PNG
- Compression Quality: 0.0
- Origin: X: -2.0037508342787E7
Y: 2.0037508342787E7
- Spatial Reference: 102100
(3857)
Storage Info:
- Storage Format: esriMapCacheStorageModeCompactV2
- Packet Size: 128
Initial Extent:
XMin: -1.2793234869630119E7
YMin: 4513833.848891688
XMax: -1.2024136255999489E7
YMax: 5088094.147069224
Spatial Reference: 102100
(3857)
Full Extent:
XMin: -1.2696719885724578E7
YMin: 4425110.028721477
XMax: -1.2102830289684307E7
YMax: 5166271.600414441
Spatial Reference: 102100
(3857)
Units: esriMeters
Supported Image Format Types: PNG32,PNG24,PNG,JPG,DIB,TIFF,EMF,PS,PDF,GIF,SVG,SVGZ,BMP
Document Info:
Title: Map1
Author:
Comments:
Subject:
Category:
Keywords:
AntialiasingMode: None
TextAntialiasingMode: Force
Supports Dynamic Layers: false
MaxRecordCount: 1000
MaxImageHeight: 4096
MaxImageWidth: 4096
Supported Query Formats: JSON, geoJSON, PBF
Supports Query Data Elements: true
Min Scale: 69501061
Max Scale: 2313
Min LOD: 7
Max LOD: 12
Supports Datum Transformation: true
Child Resources:
Info
Supported Operations:
QueryLegends
Return Updates