View In:
ArcGIS JavaScript
ArcGIS Online Map Viewer
ArcGIS Earth
ArcGIS Pro
Service Description:
Map Name: Map
Legend
All Layers and Tables
Layers:
Description: Alternatives dataset used for the development of the Resource Management Plan (RMP) and associated Environmental Impact Statement (EIS) for Grand Staircase-Escalante National Monument. Data contained within this dataset represents Travel and Transportation Management Areas (TMAs) within the GSENM planning boundary.
Service Item Id: a3a0105a73d14d809352b31056fbce52
Copyright Text: BLM GIS 2022
EMPSi GIS 2022
Spatial Reference:
102100
(3857)
Single Fused Map Cache: true
Tile Info:
- Height: 256
- Width: 256
- DPI: 96
-
Levels of Detail: 24
-
Level ID: 1
[ Start Tile, End Tile ]
- Resolution: 78271.5169639999
- Scale: 2.95828763795777E8
-
Level ID: 2
[ Start Tile, End Tile ]
- Resolution: 39135.7584820001
- Scale: 1.47914381897889E8
-
Level ID: 3
[ Start Tile, End Tile ]
- Resolution: 19567.8792409999
- Scale: 7.3957190948944E7
-
Level ID: 4
[ Start Tile, End Tile ]
- Resolution: 9783.93962049996
- Scale: 3.6978595474472E7
-
Level ID: 5
[ Start Tile, End Tile ]
- Resolution: 4891.96981024998
- Scale: 1.8489297737236E7
- Format: PNG
- Compression Quality: 0.0
- Origin: X: -2.0037508342787E7
Y: 2.0037508342787E7
- Spatial Reference: 102100
(3857)
Storage Info:
- Storage Format: esriMapCacheStorageModeCompactV2
- Packet Size: 128
Initial Extent:
XMin: -1.240839371128932E7
YMin: 4498012.79495295
XMax: -1.2403387433486141E7
YMax: 4501486.1770748
Spatial Reference: 102100
(3857)
Full Extent:
XMin: -1.2521471606772162E7
YMin: 4438632.018822484
XMax: -1.2353483782513112E7
YMax: 4581794.552835286
Spatial Reference: 102100
(3857)
Units: esriMeters
Supported Image Format Types: PNG32,PNG24,PNG,JPG,DIB,TIFF,EMF,PS,PDF,GIF,SVG,SVGZ,BMP
Document Info:
Title: T:\Shared drives\PLPCO GIS Team Drive\Map Requests\GSENM RMP\GSENM RMP\GSENM RMP.aprx
Author:
Comments:
Subject:
Category:
Keywords:
AntialiasingMode: None
TextAntialiasingMode: Force
Supports Dynamic Layers: false
MaxRecordCount: 1000
MaxImageHeight: 4096
MaxImageWidth: 4096
Supported Query Formats: JSON, geoJSON, PBF
Supports Query Data Elements: true
Min Scale: 1155581.108577
Max Scale: 36111.909643
Min LOD: 9
Max LOD: 14
Supports Datum Transformation: true
Child Resources:
Info
Supported Operations:
QueryLegends
Return Updates